BEGIN:VCALENDAR
VERSION:2.0
METHOD:PUBLISH
PRODID:-//CLC//v1.0//EN
X-WR-TIMEZONE:US/Pacific
CALSCALE:GREGORIAN
BEGIN:VEVENT
UID:-event-375
DTSTAMP:20221029T100000
DTSTART:20221029T100000
DTEND:20221029T130000
SUMMARY: Event Green Shoreline Day at Brugger&#x27;s Bog Park
LOCATION:Bruggers Bog
ORGANIZER;CN=Marla Tullio
CATEGORIES:Work Party
CLASS:PUBLIC
CONTACT:otterladi54@gmail.com
END:VEVENT
END:VCALENDAR
