BEGIN:VCALENDAR
VERSION:1.0
BEGIN:VEVENT
UID:i-event-345
SUMMARY: Event Help Us Grow Our Forest at Richmond Beach Saltwater Park
DESCRIPTION;ENCODING=QUOTED-PRINTABLE:Start your weekend with panoramic views of Puget Sound and the Olympia Mountains while helping to take care of native habitat restoration areas. We&#x27;ll be watering thirsty plants and getting rid of invasive species. We’ll also show you our unique, water-saving irrigation system – and how you can set it up in your own gardens to save water and keep your plants healthy. 

We start early to beat the heat! No experience is necessary; just an interest in having fun while protecting native habitat. We provide all of the tools and work gloves, but you are welcome to bring your own if you wish. We appreciate everyone who comes to help us restore nearshore habitat at the park!
LOCATION:Richmond Beach Saltwater Park
DTSTART:20220813T080000
DTEND:20220813T103000
END:VEVENT
END:VCALENDAR
