BEGIN:VCALENDAR
VERSION:1.0
BEGIN:VEVENT
UID:i-event-273
SUMMARY: Event Join Us--Weekly Sunday Work Party!
DESCRIPTION;ENCODING=QUOTED-PRINTABLE:Join Jim, Gary and Yoshiko on Sunday mornings at Twin Ponds Park! We see different wildlife with the changing seasons and that inspires us to nurture the natural areas of Twin Ponds Park. We pull out invasives, love OM, and dream about the next big planting of native plants for the birds and beasts to enjoy.

NOTE: Must be 18 or older. Please do not bring children/youth.
LOCATION:Twin Ponds Park
DTSTART:20220508T090000
DTEND:20220508T120000
END:VEVENT
END:VCALENDAR
