BEGIN:VCALENDAR
VERSION:1.0
BEGIN:VEVENT
UID:i-event-2150
SUMMARY: Event Northcrest Park Planting Event - 2 of 4
DESCRIPTION;ENCODING=QUOTED-PRINTABLE:Northcrest Park can use your help. Join us for the 2nd of 4 planting events as we begin to install native plants after preparing the park. We&#x27;ll plant starting at 10 and continue to 2 or until all the plants in this area are in the ground.
LOCATION:Northcrest Park
DTSTART:20251115T100000
DTEND:20251115T140000
END:VEVENT
END:VCALENDAR
