BEGIN:VCALENDAR
VERSION:2.0
METHOD:PUBLISH
PRODID:-//CLC//v1.0//EN
X-WR-TIMEZONE:US/Pacific
CALSCALE:GREGORIAN
BEGIN:VEVENT
UID:-event-2147
DTSTAMP:20251115T100000
DTSTART:20251115T100000
DTEND:20251115T140000
SUMMARY: Event Planting Party in the South Woods!
LOCATION:South Woods Park
ORGANIZER;CN=Jessica Werner
CATEGORIES:Work Party
CLASS:PUBLIC
CONTACT:jesspaul22@hotmail.com
END:VEVENT
END:VCALENDAR
