BEGIN:VCALENDAR
VERSION:2.0
METHOD:PUBLISH
PRODID:-//CLC//v1.0//EN
X-WR-TIMEZONE:US/Pacific
CALSCALE:GREGORIAN
BEGIN:VEVENT
UID:-event-181
DTSTAMP:20211120T100000
DTSTART:20211120T100000
DTEND:20211120T130000
SUMMARY: Event South Twin Ponds Saturday Work Party
LOCATION:Twin Ponds Park
ORGANIZER;CN=Sarah Fulton
CATEGORIES:Work Party
CLASS:PUBLIC
CONTACT:Fultonsarah45@gmail.com
END:VEVENT
END:VCALENDAR
