BEGIN:VCALENDAR
VERSION:1.0
BEGIN:VEVENT
UID:i-event-1554
SUMMARY: Event Soundview School - 5th Grade Forest Restoration
DESCRIPTION;ENCODING=QUOTED-PRINTABLE:Soundview School 5th Grade Students will work in the upper forest of North City Park to complete the following restoration work:
**Survey selected restoration area and remove invasive plants.
**Create survival rings by removing ivy from mature trees.
**Remove ivy other invasive plants along trails.
LOCATION:North City Park
DTSTART:20241025T110000
DTEND:20241025T150000
END:VEVENT
END:VCALENDAR
